{
 "currentVersion": 10.3,
 "serviceDescription": "County General Highway Maps were produced by the Georgia Department of Transportation (GDOT) Office of Transportation Data between 1990-1999. Source county maps were produced at a scale of 1:31,680. Upon completion of updates for all counties in the State of Georgia, the maps were clipped by county boundary lines and merged into an image mosaic for the State of Georgia. The Office of Information Technology published this dataset within the Geographic Information System (GIS).",
 "name": "COUNTY_MAP_1990_99",
 "description": "County General Highway Maps were produced by the Georgia Department of Transportation (GDOT) Office of Transportation Data between 1990-1999. Source county maps were produced at a scale of 1:31,680. Upon completion of updates for all counties in the State of Georgia, the maps were clipped by county boundary lines and merged into an image mosaic for the State of Georgia. The Office of Information Technology published this dataset within the Geographic Information System (GIS).",
 "extent": {
  "xmin": -630858.6948584364,
  "ymin": 1.166775881975207E7,
  "xmax": 851527.3462579326,
  "ymax": 1.335513471504913E7,
  "spatialReference": {
   "wkt": "PROJCS[\"NAD_1983_Lambert_Conformal_Conic\",GEOGCS[\"GCS_North_American_1983\",DATUM[\"D_North_American_1983\",SPHEROID[\"GRS_1980\",6378137.0,298.257222101]],PRIMEM[\"Greenwich\",0.0],UNIT[\"Degree\",0.0174532925199433]],PROJECTION[\"Lambert_Conformal_Conic\"],PARAMETER[\"False_Easting\",0.0],PARAMETER[\"False_Northing\",0.0],PARAMETER[\"Central_Meridian\",-83.5],PARAMETER[\"Standard_Parallel_1\",31.41666666666667],PARAMETER[\"Standard_Parallel_2\",34.28333333333333],PARAMETER[\"Latitude_Of_Origin\",0.0],UNIT[\"Foot_US\",0.3048006096012192]]"
  }
 },
 "initialExtent": {
  "xmin": -630858.6948584364,
  "ymin": 1.166775881975207E7,
  "xmax": 851527.3462579326,
  "ymax": 1.335513471504913E7,
  "spatialReference": {
   "wkt": "PROJCS[\"NAD_1983_Lambert_Conformal_Conic\",GEOGCS[\"GCS_North_American_1983\",DATUM[\"D_North_American_1983\",SPHEROID[\"GRS_1980\",6378137.0,298.257222101]],PRIMEM[\"Greenwich\",0.0],UNIT[\"Degree\",0.0174532925199433]],PROJECTION[\"Lambert_Conformal_Conic\"],PARAMETER[\"False_Easting\",0.0],PARAMETER[\"False_Northing\",0.0],PARAMETER[\"Central_Meridian\",-83.5],PARAMETER[\"Standard_Parallel_1\",31.41666666666667],PARAMETER[\"Standard_Parallel_2\",34.28333333333333],PARAMETER[\"Latitude_Of_Origin\",0.0],UNIT[\"Foot_US\",0.3048006096012192]]"
  }
 },
 "fullExtent": {
  "xmin": -630858.6948584364,
  "ymin": 1.166775881975207E7,
  "xmax": 851527.3462579326,
  "ymax": 1.335513471504913E7,
  "spatialReference": {
   "wkt": "PROJCS[\"NAD_1983_Lambert_Conformal_Conic\",GEOGCS[\"GCS_North_American_1983\",DATUM[\"D_North_American_1983\",SPHEROID[\"GRS_1980\",6378137.0,298.257222101]],PRIMEM[\"Greenwich\",0.0],UNIT[\"Degree\",0.0174532925199433]],PROJECTION[\"Lambert_Conformal_Conic\"],PARAMETER[\"False_Easting\",0.0],PARAMETER[\"False_Northing\",0.0],PARAMETER[\"Central_Meridian\",-83.5],PARAMETER[\"Standard_Parallel_1\",31.41666666666667],PARAMETER[\"Standard_Parallel_2\",34.28333333333333],PARAMETER[\"Latitude_Of_Origin\",0.0],UNIT[\"Foot_US\",0.3048006096012192]]"
  }
 },
 "pixelSizeX": 5.869766462808236,
 "pixelSizeY": 5.8697664628083785,
 "bandCount": 1,
 "pixelType": "S8",
 "minPixelSize": 0,
 "maxPixelSize": 0,
 "copyrightText": "Georgia Department of Transportation",
 "serviceDataType": "esriImageServiceDataTypeThematic",
 "minValues": [
  0
 ],
 "maxValues": [
  1
 ],
 "meanValues": [
  0.9119393428197694
 ],
 "stdvValues": [
  0.2833830937764685
 ],
 "objectIdField": "",
 "fields": [],
 "capabilities": "Image,Metadata,Mensuration",
 "defaultMosaicMethod": "Center",
 "allowedMosaicMethods": "",
 "sortField": "",
 "sortValue": null,
 "mosaicOperator": "First",
 "defaultCompressionQuality": 75,
 "defaultResamplingMethod": "Bilinear",
 "maxImageHeight": 4100,
 "maxImageWidth": 15000,
 "allowRasterFunction": true,
 "rasterFunctionInfos": [],
 "rasterTypeInfos": [
  {
   "name": "Raster Dataset",
   "description": "Supports all ArcGIS Raster Datasets",
   "help": ""
  }
 ],
 "mensurationCapabilities": "Basic",
 "hasHistograms": false,
 "hasColormap": false,
 "hasRasterAttributeTable": false,
 "minScale": 0,
 "maxScale": 0,
 "exportTilesAllowed": false,
 "hasMultidimensions": false,
 "supportsStatistics": false,
 "supportsAdvancedQueries": false,
 "editFieldsInfo": null,
 "ownershipBasedAccessControlForRasters": null,
 "allowComputeTiePoints": false,
 "useStandardizedQueries": false,
 "spatialReference": {
  "wkt": "PROJCS[\"NAD_1983_Lambert_Conformal_Conic\",GEOGCS[\"GCS_North_American_1983\",DATUM[\"D_North_American_1983\",SPHEROID[\"GRS_1980\",6378137.0,298.257222101]],PRIMEM[\"Greenwich\",0.0],UNIT[\"Degree\",0.0174532925199433]],PROJECTION[\"Lambert_Conformal_Conic\"],PARAMETER[\"False_Easting\",0.0],PARAMETER[\"False_Northing\",0.0],PARAMETER[\"Central_Meridian\",-83.5],PARAMETER[\"Standard_Parallel_1\",31.41666666666667],PARAMETER[\"Standard_Parallel_2\",34.28333333333333],PARAMETER[\"Latitude_Of_Origin\",0.0],UNIT[\"Foot_US\",0.3048006096012192]]"
 }
}
