{
 "currentVersion": 10.3,
 "serviceDescription": "DEM 10 by 10",
 "name": "DEM_10BY10",
 "description": "DEM 10 by 10",
 "extent": {
  "xmin": -630855.7598839998,
  "ymin": 1.1667733578339208E7,
  "xmax": 851523.1651160005,
  "ymax": 1.3355131778339207E7,
  "spatialReference": {
   "wkt": "PROJCS[\"North_American_1983_Lambert_Conformal_Conic\",GEOGCS[\"GCS_North_American_1983\",DATUM[\"D_North_American_1983\",SPHEROID[\"GRS_1980\",6378137.0,298.257222101]],PRIMEM[\"Greenwich\",0.0],UNIT[\"Degree\",0.0174532925199433]],PROJECTION[\"Lambert_Conformal_Conic\"],PARAMETER[\"false_easting\",0.0],PARAMETER[\"false_northing\",0.0],PARAMETER[\"central_meridian\",-83.5],PARAMETER[\"standard_parallel_1\",31.41666666666667],PARAMETER[\"standard_parallel_2\",34.28333333333333],PARAMETER[\"latitude_of_origin\",0.0],UNIT[\"Foot_US\",0.3048006096012192]]"
  }
 },
 "initialExtent": {
  "xmin": -630855.7598839998,
  "ymin": 1.1667733578339208E7,
  "xmax": 851523.1651160005,
  "ymax": 1.3355131778339207E7,
  "spatialReference": {
   "wkt": "PROJCS[\"North_American_1983_Lambert_Conformal_Conic\",GEOGCS[\"GCS_North_American_1983\",DATUM[\"D_North_American_1983\",SPHEROID[\"GRS_1980\",6378137.0,298.257222101]],PRIMEM[\"Greenwich\",0.0],UNIT[\"Degree\",0.0174532925199433]],PROJECTION[\"Lambert_Conformal_Conic\"],PARAMETER[\"false_easting\",0.0],PARAMETER[\"false_northing\",0.0],PARAMETER[\"central_meridian\",-83.5],PARAMETER[\"standard_parallel_1\",31.41666666666667],PARAMETER[\"standard_parallel_2\",34.28333333333333],PARAMETER[\"latitude_of_origin\",0.0],UNIT[\"Foot_US\",0.3048006096012192]]"
  }
 },
 "fullExtent": {
  "xmin": -630855.7598839998,
  "ymin": 1.1667733578339208E7,
  "xmax": 851523.1651160005,
  "ymax": 1.3355131778339207E7,
  "spatialReference": {
   "wkt": "PROJCS[\"North_American_1983_Lambert_Conformal_Conic\",GEOGCS[\"GCS_North_American_1983\",DATUM[\"D_North_American_1983\",SPHEROID[\"GRS_1980\",6378137.0,298.257222101]],PRIMEM[\"Greenwich\",0.0],UNIT[\"Degree\",0.0174532925199433]],PROJECTION[\"Lambert_Conformal_Conic\"],PARAMETER[\"false_easting\",0.0],PARAMETER[\"false_northing\",0.0],PARAMETER[\"central_meridian\",-83.5],PARAMETER[\"standard_parallel_1\",31.41666666666667],PARAMETER[\"standard_parallel_2\",34.28333333333333],PARAMETER[\"latitude_of_origin\",0.0],UNIT[\"Foot_US\",0.3048006096012192]]"
  }
 },
 "pixelSizeX": 32.80833333333334,
 "pixelSizeY": 32.808333333333316,
 "bandCount": 1,
 "pixelType": "F32",
 "minPixelSize": 0,
 "maxPixelSize": 0,
 "copyrightText": "Georgia Department of Transportation",
 "serviceDataType": "esriImageServiceDataTypeGeneric",
 "minValues": [
  -0.50254362821579
 ],
 "maxValues": [
  1446.6729736328
 ],
 "meanValues": [
  152.8745425026
 ],
 "stdvValues": [
  143.50350246188
 ],
 "objectIdField": "",
 "fields": [],
 "capabilities": "Image,Metadata,Mensuration",
 "defaultMosaicMethod": "Center",
 "allowedMosaicMethods": "",
 "sortField": "",
 "sortValue": null,
 "mosaicOperator": "First",
 "defaultCompressionQuality": 75,
 "defaultResamplingMethod": "Bilinear",
 "maxImageHeight": 4100,
 "maxImageWidth": 15000,
 "allowRasterFunction": true,
 "rasterFunctionInfos": [],
 "rasterTypeInfos": [
  {
   "name": "Raster Dataset",
   "description": "Supports all ArcGIS Raster Datasets",
   "help": ""
  }
 ],
 "mensurationCapabilities": "Basic",
 "hasHistograms": true,
 "hasColormap": false,
 "hasRasterAttributeTable": false,
 "minScale": 0,
 "maxScale": 0,
 "exportTilesAllowed": false,
 "hasMultidimensions": false,
 "supportsStatistics": false,
 "supportsAdvancedQueries": false,
 "editFieldsInfo": null,
 "ownershipBasedAccessControlForRasters": null,
 "allowComputeTiePoints": false,
 "useStandardizedQueries": false,
 "spatialReference": {
  "wkt": "PROJCS[\"North_American_1983_Lambert_Conformal_Conic\",GEOGCS[\"GCS_North_American_1983\",DATUM[\"D_North_American_1983\",SPHEROID[\"GRS_1980\",6378137.0,298.257222101]],PRIMEM[\"Greenwich\",0.0],UNIT[\"Degree\",0.0174532925199433]],PROJECTION[\"Lambert_Conformal_Conic\"],PARAMETER[\"false_easting\",0.0],PARAMETER[\"false_northing\",0.0],PARAMETER[\"central_meridian\",-83.5],PARAMETER[\"standard_parallel_1\",31.41666666666667],PARAMETER[\"standard_parallel_2\",34.28333333333333],PARAMETER[\"latitude_of_origin\",0.0],UNIT[\"Foot_US\",0.3048006096012192]]"
 }
}
