{
 "currentVersion": 10.3,
 "serviceDescription": "Integration of a painted relief image and DRG.",
 "name": "ELEVATION_MAP",
 "description": "Integration of a painted relief image and DRG.",
 "extent": {
  "xmin": -630897.50881625,
  "ymin": 1.166768168572695E7,
  "xmax": 851523.577516286,
  "ymax": 1.335517352727145E7,
  "spatialReference": {
   "wkid": 102604,
   "latestWkid": 102604
  }
 },
 "initialExtent": {
  "xmin": -630897.50881625,
  "ymin": 1.166768168572695E7,
  "xmax": 851523.577516286,
  "ymax": 1.335517352727145E7,
  "spatialReference": {
   "wkid": 102604,
   "latestWkid": 102604
  }
 },
 "fullExtent": {
  "xmin": -630897.50881625,
  "ymin": 1.166768168572695E7,
  "xmax": 851523.577516286,
  "ymax": 1.335517352727145E7,
  "spatialReference": {
   "wkid": 102604,
   "latestWkid": 102604
  }
 },
 "pixelSizeX": 83.49786449997387,
 "pixelSizeY": 83.49786449997524,
 "bandCount": 3,
 "pixelType": "U8",
 "minPixelSize": 0,
 "maxPixelSize": 0,
 "copyrightText": "Georgia Department of Transportation",
 "serviceDataType": "esriImageServiceDataTypeRGB",
 "minValues": [
  1,
  1,
  1
 ],
 "maxValues": [
  255,
  255,
  255
 ],
 "meanValues": [
  97.459933627483,
  71.729191365919,
  112.97320475365
 ],
 "stdvValues": [
  43.289867547286,
  30.124997105426,
  42.556357182831
 ],
 "objectIdField": "",
 "fields": [],
 "capabilities": "Image,Metadata,Mensuration",
 "defaultMosaicMethod": "Center",
 "allowedMosaicMethods": "",
 "sortField": "",
 "sortValue": null,
 "mosaicOperator": "First",
 "defaultCompressionQuality": 75,
 "defaultResamplingMethod": "Bilinear",
 "maxImageHeight": 4100,
 "maxImageWidth": 15000,
 "allowRasterFunction": true,
 "rasterFunctionInfos": [],
 "rasterTypeInfos": [
  {
   "name": "Raster Dataset",
   "description": "Supports all ArcGIS Raster Datasets",
   "help": ""
  }
 ],
 "mensurationCapabilities": "Basic",
 "hasHistograms": true,
 "hasColormap": false,
 "hasRasterAttributeTable": false,
 "minScale": 0,
 "maxScale": 0,
 "exportTilesAllowed": false,
 "hasMultidimensions": false,
 "supportsStatistics": false,
 "supportsAdvancedQueries": false,
 "editFieldsInfo": null,
 "ownershipBasedAccessControlForRasters": null,
 "allowComputeTiePoints": false,
 "useStandardizedQueries": false,
 "spatialReference": {
  "wkid": 102604,
  "latestWkid": 102604
 }
}
