{
 "currentVersion": 10.3,
 "serviceDescription": "GEORGIA_TERRAIN",
 "name": "GEORGIA_TERRAIN",
 "description": "GEORGIA_TERRAIN",
 "extent": {
  "xmin": -630878.4569774222,
  "ymin": 1.1667772172850851E7,
  "xmax": 851541.9055793654,
  "ymax": 1.3355114801313134E7,
  "spatialReference": {
   "wkt": "PROJCS[\"NAD_1983_Lambert_Conformal_Conic\",GEOGCS[\"GCS_North_American_1983\",DATUM[\"D_North_American_1983\",SPHEROID[\"GRS_1980\",6378137.0,298.257222101]],PRIMEM[\"Greenwich\",0.0],UNIT[\"Degree\",0.0174532925199433]],PROJECTION[\"Lambert_Conformal_Conic\"],PARAMETER[\"false_easting\",0.0],PARAMETER[\"false_northing\",0.0],PARAMETER[\"central_meridian\",-83.5],PARAMETER[\"standard_parallel_1\",31.41666666666668],PARAMETER[\"standard_parallel_2\",34.28333333333334],PARAMETER[\"latitude_of_origin\",0.0],UNIT[\"Foot_US\",0.3048006096012192]]"
  }
 },
 "initialExtent": {
  "xmin": -630878.4569774222,
  "ymin": 1.1667772172850851E7,
  "xmax": 851541.9055793654,
  "ymax": 1.3355114801313134E7,
  "spatialReference": {
   "wkt": "PROJCS[\"NAD_1983_Lambert_Conformal_Conic\",GEOGCS[\"GCS_North_American_1983\",DATUM[\"D_North_American_1983\",SPHEROID[\"GRS_1980\",6378137.0,298.257222101]],PRIMEM[\"Greenwich\",0.0],UNIT[\"Degree\",0.0174532925199433]],PROJECTION[\"Lambert_Conformal_Conic\"],PARAMETER[\"false_easting\",0.0],PARAMETER[\"false_northing\",0.0],PARAMETER[\"central_meridian\",-83.5],PARAMETER[\"standard_parallel_1\",31.41666666666668],PARAMETER[\"standard_parallel_2\",34.28333333333334],PARAMETER[\"latitude_of_origin\",0.0],UNIT[\"Foot_US\",0.3048006096012192]]"
  }
 },
 "fullExtent": {
  "xmin": -630878.4569774222,
  "ymin": 1.1667772172850851E7,
  "xmax": 851541.9055793654,
  "ymax": 1.3355114801313134E7,
  "spatialReference": {
   "wkt": "PROJCS[\"NAD_1983_Lambert_Conformal_Conic\",GEOGCS[\"GCS_North_American_1983\",DATUM[\"D_North_American_1983\",SPHEROID[\"GRS_1980\",6378137.0,298.257222101]],PRIMEM[\"Greenwich\",0.0],UNIT[\"Degree\",0.0174532925199433]],PROJECTION[\"Lambert_Conformal_Conic\"],PARAMETER[\"false_easting\",0.0],PARAMETER[\"false_northing\",0.0],PARAMETER[\"central_meridian\",-83.5],PARAMETER[\"standard_parallel_1\",31.41666666666668],PARAMETER[\"standard_parallel_2\",34.28333333333334],PARAMETER[\"latitude_of_origin\",0.0],UNIT[\"Foot_US\",0.3048006096012192]]"
  }
 },
 "pixelSizeX": 93.31615023018932,
 "pixelSizeY": 93.31615023018931,
 "bandCount": 3,
 "pixelType": "U8",
 "minPixelSize": 0,
 "maxPixelSize": 0,
 "copyrightText": "Georgia Department of Transportation",
 "serviceDataType": "esriImageServiceDataTypeRGB",
 "minValues": [
  2,
  4,
  5
 ],
 "maxValues": [
  252,
  238,
  234
 ],
 "meanValues": [
  100.04018684669,
  77.549423507952,
  127.19592518055
 ],
 "stdvValues": [
  29.544134019955,
  18.475515262498,
  20.935076683929
 ],
 "objectIdField": "",
 "fields": [],
 "capabilities": "Image,Metadata,Mensuration",
 "defaultMosaicMethod": "Center",
 "allowedMosaicMethods": "",
 "sortField": "",
 "sortValue": null,
 "mosaicOperator": "First",
 "defaultCompressionQuality": 75,
 "defaultResamplingMethod": "Bilinear",
 "maxImageHeight": 4100,
 "maxImageWidth": 15000,
 "allowRasterFunction": true,
 "rasterFunctionInfos": [],
 "rasterTypeInfos": [
  {
   "name": "Raster Dataset",
   "description": "Supports all ArcGIS Raster Datasets",
   "help": ""
  }
 ],
 "mensurationCapabilities": "Basic",
 "hasHistograms": true,
 "hasColormap": false,
 "hasRasterAttributeTable": false,
 "minScale": 0,
 "maxScale": 0,
 "exportTilesAllowed": false,
 "hasMultidimensions": false,
 "supportsStatistics": false,
 "supportsAdvancedQueries": false,
 "editFieldsInfo": null,
 "ownershipBasedAccessControlForRasters": null,
 "allowComputeTiePoints": false,
 "useStandardizedQueries": false,
 "spatialReference": {
  "wkt": "PROJCS[\"NAD_1983_Lambert_Conformal_Conic\",GEOGCS[\"GCS_North_American_1983\",DATUM[\"D_North_American_1983\",SPHEROID[\"GRS_1980\",6378137.0,298.257222101]],PRIMEM[\"Greenwich\",0.0],UNIT[\"Degree\",0.0174532925199433]],PROJECTION[\"Lambert_Conformal_Conic\"],PARAMETER[\"false_easting\",0.0],PARAMETER[\"false_northing\",0.0],PARAMETER[\"central_meridian\",-83.5],PARAMETER[\"standard_parallel_1\",31.41666666666668],PARAMETER[\"standard_parallel_2\",34.28333333333334],PARAMETER[\"latitude_of_origin\",0.0],UNIT[\"Foot_US\",0.3048006096012192]]"
 }
}
