{
 "currentVersion": 10.3,
 "serviceDescription": "These data can be used in a geographic information system (GIS) for any\nnumber of purposes such as assessing wildlife habitat, water quality, pesticide\nrunoff, land use change, etc. The state data sets are provided with a 300 meter\nbuffer beyond the State border to faciliate combining the State files into larger\nregions.\n\nThe user must have a firm understanding of how the datasets were compiled and the\nresulting limitations of these data. The National Land Cover Dataset was compiled\nfrom Landsat satellite TM imagery (circa 1992) with a spatial resolution of 30\nmeters and supplemented by various ancillary data (where available). The analysis\nand interpretation of the satellite imagery was conducted using very large,\nsometimes multi-state image mosaics (i.e. up to 18 Landsat scenes). Using a\nrelatively small number of aerial photographs for 'ground truth', the thematic\ninterpretations were necessarily conducted from a spatially-broad perspective.\nFurthermore, the accuracy assessments (see below) correspond to 'federal regions'\nwhich are groupings of contiguous States. Thus, the reliability of the data is\ngreatest at the State or multi-State level. The statistical accuracy of the data\nis known only for the region.\n\nImportant Caution Advisory\n\nWith this in mind, users are cautioned to carefully scrutinize the data to\nsee if they are of sufficient reliability before attempting to use the\ndataset for larger-scale or local analyses. This evaluation must be made\nremembering that the NLCD represents conditions in the early 1990s.\n\nThe Georgia portion of the NLCD was created as part of land cover\nmapping activities for Federal Region IV that includes the States of\nSouth Carolina, Florida, Alabama, Mississippi, North Carolina, Kentucky,\nand Tennessee. The NLCD classification contains 21 different land\ncover categories with a spatial resolution of 30 meters. The NLCD was\nproduced as a cooperative effort between the U.S. Geological Survey\n(USGS) and the U.S. Environmental Protection Agency (US EPA) to produce\na consistent, land cover data layer for the conterminous U.S. using\nearly 1990s Landsat thematic mapper (TM) data purchased by the Multi-\nresolution Land Characterization (MRLC) Consortium. The MRLC Consortium\nis a partnership of federal agencies that produce or use land cover data.\nPartners include the USGS (National Mapping, Biological Resources, and\nWater Resources Divisions), US EPA, the U.S. Forest Service, and the\nNational Oceanic and Atmospheric Administration.",
 "name": "NLCD_2001",
 "description": "These data can be used in a geographic information system (GIS) for any\nnumber of purposes such as assessing wildlife habitat, water quality, pesticide\nrunoff, land use change, etc. The state data sets are provided with a 300 meter\nbuffer beyond the State border to faciliate combining the State files into larger\nregions.\n\nThe user must have a firm understanding of how the datasets were compiled and the\nresulting limitations of these data. The National Land Cover Dataset was compiled\nfrom Landsat satellite TM imagery (circa 1992) with a spatial resolution of 30\nmeters and supplemented by various ancillary data (where available). The analysis\nand interpretation of the satellite imagery was conducted using very large,\nsometimes multi-state image mosaics (i.e. up to 18 Landsat scenes). Using a\nrelatively small number of aerial photographs for 'ground truth', the thematic\ninterpretations were necessarily conducted from a spatially-broad perspective.\nFurthermore, the accuracy assessments (see below) correspond to 'federal regions'\nwhich are groupings of contiguous States. Thus, the reliability of the data is\ngreatest at the State or multi-State level. The statistical accuracy of the data\nis known only for the region.\n\nImportant Caution Advisory\n\nWith this in mind, users are cautioned to carefully scrutinize the data to\nsee if they are of sufficient reliability before attempting to use the\ndataset for larger-scale or local analyses. This evaluation must be made\nremembering that the NLCD represents conditions in the early 1990s.\n\nThe Georgia portion of the NLCD was created as part of land cover\nmapping activities for Federal Region IV that includes the States of\nSouth Carolina, Florida, Alabama, Mississippi, North Carolina, Kentucky,\nand Tennessee. The NLCD classification contains 21 different land\ncover categories with a spatial resolution of 30 meters. The NLCD was\nproduced as a cooperative effort between the U.S. Geological Survey\n(USGS) and the U.S. Environmental Protection Agency (US EPA) to produce\na consistent, land cover data layer for the conterminous U.S. using\nearly 1990s Landsat thematic mapper (TM) data purchased by the Multi-\nresolution Land Characterization (MRLC) Consortium. The MRLC Consortium\nis a partnership of federal agencies that produce or use land cover data.\nPartners include the USGS (National Mapping, Biological Resources, and\nWater Resources Divisions), US EPA, the U.S. Forest Service, and the\nNational Oceanic and Atmospheric Administration.",
 "extent": {
  "xmin": -878174.4157832362,
  "ymin": 1.1559198922675906E7,
  "xmax": 1026726.9508520751,
  "ymax": 1.3491265359952495E7,
  "spatialReference": {
   "wkt": "PROJCS[\"NAD_1983_Lambert_Conformal_Conic\",GEOGCS[\"GCS_North_American_1983\",DATUM[\"D_North_American_1983\",SPHEROID[\"GRS_1980\",6378137.0,298.257222101]],PRIMEM[\"Greenwich\",0.0],UNIT[\"Degree\",0.0174532925199433]],PROJECTION[\"Lambert_Conformal_Conic\"],PARAMETER[\"False_Easting\",0.0],PARAMETER[\"False_Northing\",0.0],PARAMETER[\"Central_Meridian\",-83.5],PARAMETER[\"Standard_Parallel_1\",31.41666666666667],PARAMETER[\"Standard_Parallel_2\",34.28333333333333],PARAMETER[\"Latitude_Of_Origin\",0.0],UNIT[\"Foot_US\",0.3048006096012192]]"
  }
 },
 "initialExtent": {
  "xmin": -878174.4157832362,
  "ymin": 1.1559198922675906E7,
  "xmax": 1026726.9508520751,
  "ymax": 1.3491265359952495E7,
  "spatialReference": {
   "wkt": "PROJCS[\"NAD_1983_Lambert_Conformal_Conic\",GEOGCS[\"GCS_North_American_1983\",DATUM[\"D_North_American_1983\",SPHEROID[\"GRS_1980\",6378137.0,298.257222101]],PRIMEM[\"Greenwich\",0.0],UNIT[\"Degree\",0.0174532925199433]],PROJECTION[\"Lambert_Conformal_Conic\"],PARAMETER[\"False_Easting\",0.0],PARAMETER[\"False_Northing\",0.0],PARAMETER[\"Central_Meridian\",-83.5],PARAMETER[\"Standard_Parallel_1\",31.41666666666667],PARAMETER[\"Standard_Parallel_2\",34.28333333333333],PARAMETER[\"Latitude_Of_Origin\",0.0],UNIT[\"Foot_US\",0.3048006096012192]]"
  }
 },
 "fullExtent": {
  "xmin": -878174.4157832362,
  "ymin": 1.1559198922675906E7,
  "xmax": 1026726.9508520751,
  "ymax": 1.3491265359952495E7,
  "spatialReference": {
   "wkt": "PROJCS[\"NAD_1983_Lambert_Conformal_Conic\",GEOGCS[\"GCS_North_American_1983\",DATUM[\"D_North_American_1983\",SPHEROID[\"GRS_1980\",6378137.0,298.257222101]],PRIMEM[\"Greenwich\",0.0],UNIT[\"Degree\",0.0174532925199433]],PROJECTION[\"Lambert_Conformal_Conic\"],PARAMETER[\"False_Easting\",0.0],PARAMETER[\"False_Northing\",0.0],PARAMETER[\"Central_Meridian\",-83.5],PARAMETER[\"Standard_Parallel_1\",31.41666666666667],PARAMETER[\"Standard_Parallel_2\",34.28333333333333],PARAMETER[\"Latitude_Of_Origin\",0.0],UNIT[\"Foot_US\",0.3048006096012192]]"
  }
 },
 "pixelSizeX": 98.42416899014732,
 "pixelSizeY": 98.42416899014717,
 "bandCount": 3,
 "pixelType": "U8",
 "minPixelSize": 0,
 "maxPixelSize": 0,
 "copyrightText": "Georgia Department of Transportation",
 "serviceDataType": "esriImageServiceDataTypeRGB",
 "minValues": [],
 "maxValues": [],
 "meanValues": [],
 "stdvValues": [],
 "objectIdField": "",
 "fields": [],
 "capabilities": "Image,Metadata,Mensuration",
 "defaultMosaicMethod": "Center",
 "allowedMosaicMethods": "",
 "sortField": "",
 "sortValue": null,
 "mosaicOperator": "First",
 "defaultCompressionQuality": 75,
 "defaultResamplingMethod": "Bilinear",
 "maxImageHeight": 4100,
 "maxImageWidth": 15000,
 "allowRasterFunction": true,
 "rasterFunctionInfos": [],
 "rasterTypeInfos": [
  {
   "name": "Raster Dataset",
   "description": "Supports all ArcGIS Raster Datasets",
   "help": ""
  }
 ],
 "mensurationCapabilities": "Basic",
 "hasHistograms": false,
 "hasColormap": false,
 "hasRasterAttributeTable": false,
 "minScale": 0,
 "maxScale": 0,
 "exportTilesAllowed": false,
 "hasMultidimensions": false,
 "supportsStatistics": false,
 "supportsAdvancedQueries": false,
 "editFieldsInfo": null,
 "ownershipBasedAccessControlForRasters": null,
 "allowComputeTiePoints": false,
 "useStandardizedQueries": false,
 "spatialReference": {
  "wkt": "PROJCS[\"NAD_1983_Lambert_Conformal_Conic\",GEOGCS[\"GCS_North_American_1983\",DATUM[\"D_North_American_1983\",SPHEROID[\"GRS_1980\",6378137.0,298.257222101]],PRIMEM[\"Greenwich\",0.0],UNIT[\"Degree\",0.0174532925199433]],PROJECTION[\"Lambert_Conformal_Conic\"],PARAMETER[\"False_Easting\",0.0],PARAMETER[\"False_Northing\",0.0],PARAMETER[\"Central_Meridian\",-83.5],PARAMETER[\"Standard_Parallel_1\",31.41666666666667],PARAMETER[\"Standard_Parallel_2\",34.28333333333333],PARAMETER[\"Latitude_Of_Origin\",0.0],UNIT[\"Foot_US\",0.3048006096012192]]"
 }
}
