{
 "currentVersion": 10.3,
 "serviceDescription": "PAINTED RELIEF",
 "name": "PAINTED_RELIEF",
 "description": "PAINTED RELIEF",
 "extent": {
  "xmin": -630872.1640506665,
  "ymin": 1.1667749982505877E7,
  "xmax": 851539.5692826669,
  "ymax": 1.3355148182505878E7,
  "spatialReference": {
   "wkt": "PROJCS[\"North_American_1983_Lambert_Conformal_Conic\",GEOGCS[\"GCS_North_American_1983\",DATUM[\"D_North_American_1983\",SPHEROID[\"GRS_1980\",6378137.0,298.257222101]],PRIMEM[\"Greenwich\",0.0],UNIT[\"Degree\",0.0174532925199433]],PROJECTION[\"Lambert_Conformal_Conic\"],PARAMETER[\"false_easting\",0.0],PARAMETER[\"false_northing\",0.0],PARAMETER[\"central_meridian\",-83.5],PARAMETER[\"standard_parallel_1\",31.41666666666667],PARAMETER[\"standard_parallel_2\",34.28333333333333],PARAMETER[\"latitude_of_origin\",0.0],UNIT[\"Foot_US\",0.3048006096012192]]"
  }
 },
 "initialExtent": {
  "xmin": -630872.1640506665,
  "ymin": 1.1667749982505877E7,
  "xmax": 851539.5692826669,
  "ymax": 1.3355148182505878E7,
  "spatialReference": {
   "wkt": "PROJCS[\"North_American_1983_Lambert_Conformal_Conic\",GEOGCS[\"GCS_North_American_1983\",DATUM[\"D_North_American_1983\",SPHEROID[\"GRS_1980\",6378137.0,298.257222101]],PRIMEM[\"Greenwich\",0.0],UNIT[\"Degree\",0.0174532925199433]],PROJECTION[\"Lambert_Conformal_Conic\"],PARAMETER[\"false_easting\",0.0],PARAMETER[\"false_northing\",0.0],PARAMETER[\"central_meridian\",-83.5],PARAMETER[\"standard_parallel_1\",31.41666666666667],PARAMETER[\"standard_parallel_2\",34.28333333333333],PARAMETER[\"latitude_of_origin\",0.0],UNIT[\"Foot_US\",0.3048006096012192]]"
  }
 },
 "fullExtent": {
  "xmin": -630872.1640506665,
  "ymin": 1.1667749982505877E7,
  "xmax": 851539.5692826669,
  "ymax": 1.3355148182505878E7,
  "spatialReference": {
   "wkt": "PROJCS[\"North_American_1983_Lambert_Conformal_Conic\",GEOGCS[\"GCS_North_American_1983\",DATUM[\"D_North_American_1983\",SPHEROID[\"GRS_1980\",6378137.0,298.257222101]],PRIMEM[\"Greenwich\",0.0],UNIT[\"Degree\",0.0174532925199433]],PROJECTION[\"Lambert_Conformal_Conic\"],PARAMETER[\"false_easting\",0.0],PARAMETER[\"false_northing\",0.0],PARAMETER[\"central_meridian\",-83.5],PARAMETER[\"standard_parallel_1\",31.41666666666667],PARAMETER[\"standard_parallel_2\",34.28333333333333],PARAMETER[\"latitude_of_origin\",0.0],UNIT[\"Foot_US\",0.3048006096012192]]"
  }
 },
 "pixelSizeX": 32.80833333333334,
 "pixelSizeY": 32.80833333333336,
 "bandCount": 3,
 "pixelType": "U8",
 "minPixelSize": 0,
 "maxPixelSize": 0,
 "copyrightText": "Georgia Department of Transportation",
 "serviceDataType": "esriImageServiceDataTypeRGB",
 "minValues": [
  0,
  0,
  0
 ],
 "maxValues": [
  254,
  253,
  254
 ],
 "meanValues": [
  66.012197969557,
  83.970667176863,
  51.361449955361
 ],
 "stdvValues": [
  53.231703317536,
  62.485438495393,
  39.891175879289
 ],
 "objectIdField": "",
 "fields": [],
 "capabilities": "Image,Metadata,Mensuration",
 "defaultMosaicMethod": "Center",
 "allowedMosaicMethods": "",
 "sortField": "",
 "sortValue": null,
 "mosaicOperator": "First",
 "defaultCompressionQuality": 75,
 "defaultResamplingMethod": "Bilinear",
 "maxImageHeight": 4100,
 "maxImageWidth": 15000,
 "allowRasterFunction": true,
 "rasterFunctionInfos": [],
 "rasterTypeInfos": [
  {
   "name": "Raster Dataset",
   "description": "Supports all ArcGIS Raster Datasets",
   "help": ""
  }
 ],
 "mensurationCapabilities": "Basic",
 "hasHistograms": true,
 "hasColormap": false,
 "hasRasterAttributeTable": false,
 "minScale": 0,
 "maxScale": 0,
 "exportTilesAllowed": false,
 "hasMultidimensions": false,
 "supportsStatistics": false,
 "supportsAdvancedQueries": false,
 "editFieldsInfo": null,
 "ownershipBasedAccessControlForRasters": null,
 "allowComputeTiePoints": false,
 "useStandardizedQueries": false,
 "spatialReference": {
  "wkt": "PROJCS[\"North_American_1983_Lambert_Conformal_Conic\",GEOGCS[\"GCS_North_American_1983\",DATUM[\"D_North_American_1983\",SPHEROID[\"GRS_1980\",6378137.0,298.257222101]],PRIMEM[\"Greenwich\",0.0],UNIT[\"Degree\",0.0174532925199433]],PROJECTION[\"Lambert_Conformal_Conic\"],PARAMETER[\"false_easting\",0.0],PARAMETER[\"false_northing\",0.0],PARAMETER[\"central_meridian\",-83.5],PARAMETER[\"standard_parallel_1\",31.41666666666667],PARAMETER[\"standard_parallel_2\",34.28333333333333],PARAMETER[\"latitude_of_origin\",0.0],UNIT[\"Foot_US\",0.3048006096012192]]"
 }
}
