{
 "currentVersion": 10.3,
 "serviceDescription": "A 30 by 30 meter satellite image of Georgia.",
 "name": "SATELLITE_TM",
 "description": "A 30 by 30 meter satellite image of Georgia.",
 "extent": {
  "xmin": -630855.759884,
  "ymin": 1.16677335783392E7,
  "xmax": 851523.165116001,
  "ymax": 1.33551317783392E7,
  "spatialReference": {
   "wkid": 102604,
   "latestWkid": 102604
  }
 },
 "initialExtent": {
  "xmin": -630855.759884,
  "ymin": 1.16677335783392E7,
  "xmax": 851523.165116001,
  "ymax": 1.33551317783392E7,
  "spatialReference": {
   "wkid": 102604,
   "latestWkid": 102604
  }
 },
 "fullExtent": {
  "xmin": -630855.759884,
  "ymin": 1.16677335783392E7,
  "xmax": 851523.165116001,
  "ymax": 1.33551317783392E7,
  "spatialReference": {
   "wkid": 102604,
   "latestWkid": 102604
  }
 },
 "pixelSizeX": 98.42500000000008,
 "pixelSizeY": 98.42499999999995,
 "bandCount": 3,
 "pixelType": "U8",
 "minPixelSize": 0,
 "maxPixelSize": 0,
 "copyrightText": "Georgia Department of Transportation",
 "serviceDataType": "esriImageServiceDataTypeRGB",
 "minValues": [
  1,
  1,
  1
 ],
 "maxValues": [
  255,
  255,
  255
 ],
 "meanValues": [
  72.12008495755131,
  68.45527135589069,
  25.888887152331122
 ],
 "stdvValues": [
  41.434422038084264,
  25.488444634093185,
  15.353830228231345
 ],
 "objectIdField": "",
 "fields": [],
 "capabilities": "Image,Metadata,Mensuration",
 "defaultMosaicMethod": "Center",
 "allowedMosaicMethods": "",
 "sortField": "",
 "sortValue": null,
 "mosaicOperator": "First",
 "defaultCompressionQuality": 75,
 "defaultResamplingMethod": "Bilinear",
 "maxImageHeight": 4100,
 "maxImageWidth": 15000,
 "allowRasterFunction": true,
 "rasterFunctionInfos": [],
 "rasterTypeInfos": [
  {
   "name": "Raster Dataset",
   "description": "Supports all ArcGIS Raster Datasets",
   "help": ""
  }
 ],
 "mensurationCapabilities": "Basic",
 "hasHistograms": true,
 "hasColormap": false,
 "hasRasterAttributeTable": false,
 "minScale": 0,
 "maxScale": 0,
 "exportTilesAllowed": false,
 "hasMultidimensions": false,
 "supportsStatistics": false,
 "supportsAdvancedQueries": false,
 "editFieldsInfo": null,
 "ownershipBasedAccessControlForRasters": null,
 "allowComputeTiePoints": false,
 "useStandardizedQueries": false,
 "spatialReference": {
  "wkid": 102604,
  "latestWkid": 102604
 }
}
