{
 "currentVersion": 10.3,
 "serviceDescription": "Georgia Official Highway and Transportation Map, also known as the State Map. \nThe map includes 16 insets: Albany, Appalachian Trail, Athens, Atlanta, Augusta, Columbus, Dalton, Downtown Atlanta, Gainesville, Hinesville, Macon, Rome, Savannah, Statesboro, Valdosta, and Warner Robins. \nThe 2017-2018 State Map is printed at a scale of 1 inch to 10 miles (633,600). \nThe map was produced through a collaborative effort between GDOT\u2019s Office of Transportation Data and the Carl Vinson Institute of Government at the University of Georgia.",
 "name": "STATE_MAP_2017",
 "description": "Georgia Official Highway and Transportation Map, also known as the State Map. \nThe map includes 16 insets: Albany, Appalachian Trail, Athens, Atlanta, Augusta, Columbus, Dalton, Downtown Atlanta, Gainesville, Hinesville, Macon, Rome, Savannah, Statesboro, Valdosta, and Warner Robins. \nThe 2017-2018 State Map is printed at a scale of 1 inch to 10 miles (633,600). \nThe map was produced through a collaborative effort between GDOT\u2019s Office of Transportation Data and the Carl Vinson Institute of Government at the University of Georgia.",
 "extent": {
  "xmin": -1309617.6807869799,
  "ymin": 1.162966808524342E7,
  "xmax": 1531833.6953597786,
  "ymax": 1.3393188085243402E7,
  "spatialReference": {
   "wkid": 102604,
   "latestWkid": 102604
  }
 },
 "initialExtent": {
  "xmin": -1309617.6807869799,
  "ymin": 1.162966808524342E7,
  "xmax": 1531833.6953597786,
  "ymax": 1.3393188085243402E7,
  "spatialReference": {
   "wkid": 102604,
   "latestWkid": 102604
  }
 },
 "fullExtent": {
  "xmin": -1309617.6807869799,
  "ymin": 1.162966808524342E7,
  "xmax": 1531833.6953597786,
  "ymax": 1.3393188085243402E7,
  "spatialReference": {
   "wkid": 102604,
   "latestWkid": 102604
  }
 },
 "pixelSizeX": 38.82984238417479,
 "pixelSizeY": 38.82951317788452,
 "bandCount": 3,
 "pixelType": "U8",
 "minPixelSize": 0,
 "maxPixelSize": 0,
 "copyrightText": "Georgia Department of Tranportation, Office of Transportation Data",
 "serviceDataType": "esriImageServiceDataTypeThematic",
 "minValues": [],
 "maxValues": [],
 "meanValues": [],
 "stdvValues": [],
 "objectIdField": "",
 "fields": [],
 "capabilities": "Image,Metadata,Mensuration",
 "defaultMosaicMethod": "Center",
 "allowedMosaicMethods": "",
 "sortField": "",
 "sortValue": null,
 "mosaicOperator": "First",
 "defaultCompressionQuality": 75,
 "defaultResamplingMethod": "Bilinear",
 "maxImageHeight": 4100,
 "maxImageWidth": 15000,
 "allowRasterFunction": true,
 "rasterFunctionInfos": [],
 "rasterTypeInfos": [
  {
   "name": "Raster Dataset",
   "description": "Supports all ArcGIS Raster Datasets",
   "help": ""
  }
 ],
 "mensurationCapabilities": "Basic",
 "hasHistograms": false,
 "hasColormap": false,
 "hasRasterAttributeTable": false,
 "minScale": 0,
 "maxScale": 0,
 "exportTilesAllowed": false,
 "hasMultidimensions": false,
 "supportsStatistics": false,
 "supportsAdvancedQueries": false,
 "editFieldsInfo": null,
 "ownershipBasedAccessControlForRasters": null,
 "allowComputeTiePoints": false,
 "useStandardizedQueries": false,
 "spatialReference": {
  "wkid": 102604,
  "latestWkid": 102604
 }
}
