{
 "currentVersion": 10.3,
 "serviceDescription": "Terrain map",
 "name": "TERRAIN_MAP",
 "description": "Terrain map",
 "extent": {
  "xmin": -630899.7598839998,
  "ymin": 1.166768777833921E7,
  "xmax": 851548.2401160002,
  "ymax": 1.335517577833921E7,
  "spatialReference": {
   "wkt": "PROJCS[\"NAD_1983_Lambert_Conformal_Conic\",GEOGCS[\"GCS_North_American_1983\",DATUM[\"D_North_American_1983\",SPHEROID[\"GRS_1980\",6378137.0,298.257222101]],PRIMEM[\"Greenwich\",0.0],UNIT[\"Degree\",0.0174532925199433]],PROJECTION[\"Lambert_Conformal_Conic\"],PARAMETER[\"false_easting\",0.0],PARAMETER[\"false_northing\",0.0],PARAMETER[\"central_meridian\",-83.5],PARAMETER[\"standard_parallel_1\",31.41666666666668],PARAMETER[\"standard_parallel_2\",34.28333333333334],PARAMETER[\"latitude_of_origin\",0.0],UNIT[\"Foot_US\",0.3048006096012192]]"
  }
 },
 "initialExtent": {
  "xmin": -630899.7598839998,
  "ymin": 1.166768777833921E7,
  "xmax": 851548.2401160002,
  "ymax": 1.335517577833921E7,
  "spatialReference": {
   "wkt": "PROJCS[\"NAD_1983_Lambert_Conformal_Conic\",GEOGCS[\"GCS_North_American_1983\",DATUM[\"D_North_American_1983\",SPHEROID[\"GRS_1980\",6378137.0,298.257222101]],PRIMEM[\"Greenwich\",0.0],UNIT[\"Degree\",0.0174532925199433]],PROJECTION[\"Lambert_Conformal_Conic\"],PARAMETER[\"false_easting\",0.0],PARAMETER[\"false_northing\",0.0],PARAMETER[\"central_meridian\",-83.5],PARAMETER[\"standard_parallel_1\",31.41666666666668],PARAMETER[\"standard_parallel_2\",34.28333333333334],PARAMETER[\"latitude_of_origin\",0.0],UNIT[\"Foot_US\",0.3048006096012192]]"
  }
 },
 "fullExtent": {
  "xmin": -630899.7598839998,
  "ymin": 1.166768777833921E7,
  "xmax": 851548.2401160002,
  "ymax": 1.335517577833921E7,
  "spatialReference": {
   "wkt": "PROJCS[\"NAD_1983_Lambert_Conformal_Conic\",GEOGCS[\"GCS_North_American_1983\",DATUM[\"D_North_American_1983\",SPHEROID[\"GRS_1980\",6378137.0,298.257222101]],PRIMEM[\"Greenwich\",0.0],UNIT[\"Degree\",0.0174532925199433]],PROJECTION[\"Lambert_Conformal_Conic\"],PARAMETER[\"false_easting\",0.0],PARAMETER[\"false_northing\",0.0],PARAMETER[\"central_meridian\",-83.5],PARAMETER[\"standard_parallel_1\",31.41666666666668],PARAMETER[\"standard_parallel_2\",34.28333333333334],PARAMETER[\"latitude_of_origin\",0.0],UNIT[\"Foot_US\",0.3048006096012192]]"
  }
 },
 "pixelSizeX": 88,
 "pixelSizeY": 88,
 "bandCount": 3,
 "pixelType": "U8",
 "minPixelSize": 0,
 "maxPixelSize": 0,
 "copyrightText": "Georgia Department of Transportation",
 "serviceDataType": "esriImageServiceDataTypeRGB",
 "minValues": [
  5,
  16,
  15
 ],
 "maxValues": [
  255,
  255,
  255
 ],
 "meanValues": [
  103.02292104829,
  79.929275267635,
  128.0592526646
 ],
 "stdvValues": [
  35.207503517103,
  25.256530740741,
  23.10930659353
 ],
 "objectIdField": "",
 "fields": [],
 "capabilities": "Image,Metadata,Mensuration",
 "defaultMosaicMethod": "Center",
 "allowedMosaicMethods": "",
 "sortField": "",
 "sortValue": null,
 "mosaicOperator": "First",
 "defaultCompressionQuality": 75,
 "defaultResamplingMethod": "Bilinear",
 "maxImageHeight": 4100,
 "maxImageWidth": 15000,
 "allowRasterFunction": true,
 "rasterFunctionInfos": [],
 "rasterTypeInfos": [
  {
   "name": "Raster Dataset",
   "description": "Supports all ArcGIS Raster Datasets",
   "help": ""
  }
 ],
 "mensurationCapabilities": "Basic",
 "hasHistograms": true,
 "hasColormap": false,
 "hasRasterAttributeTable": false,
 "minScale": 0,
 "maxScale": 0,
 "exportTilesAllowed": false,
 "hasMultidimensions": false,
 "supportsStatistics": false,
 "supportsAdvancedQueries": false,
 "editFieldsInfo": null,
 "ownershipBasedAccessControlForRasters": null,
 "allowComputeTiePoints": false,
 "useStandardizedQueries": false,
 "spatialReference": {
  "wkt": "PROJCS[\"NAD_1983_Lambert_Conformal_Conic\",GEOGCS[\"GCS_North_American_1983\",DATUM[\"D_North_American_1983\",SPHEROID[\"GRS_1980\",6378137.0,298.257222101]],PRIMEM[\"Greenwich\",0.0],UNIT[\"Degree\",0.0174532925199433]],PROJECTION[\"Lambert_Conformal_Conic\"],PARAMETER[\"false_easting\",0.0],PARAMETER[\"false_northing\",0.0],PARAMETER[\"central_meridian\",-83.5],PARAMETER[\"standard_parallel_1\",31.41666666666668],PARAMETER[\"standard_parallel_2\",34.28333333333334],PARAMETER[\"latitude_of_origin\",0.0],UNIT[\"Foot_US\",0.3048006096012192]]"
 }
}
