{
 "currentVersion": 10.3,
 "serviceDescription": "State Map 2025 - 2026",
 "name": "State_Map",
 "description": "State Map 2025 - 2026",
 "extent": {
  "xmin": -1178217.0074292917,
  "ymin": 1.1490579021135963E7,
  "xmax": 1371586.2995413293,
  "ymax": 1.3532315806311926E7,
  "spatialReference": {
   "wkid": 102604,
   "latestWkid": 102604
  }
 },
 "initialExtent": {
  "xmin": -1178217.0074292917,
  "ymin": 1.1490579021135963E7,
  "xmax": 1371586.2995413293,
  "ymax": 1.3532315806311926E7,
  "spatialReference": {
   "wkid": 102604,
   "latestWkid": 102604
  }
 },
 "fullExtent": {
  "xmin": -1178217.0074292917,
  "ymin": 1.1490579021135963E7,
  "xmax": 1371586.2995413293,
  "ymax": 1.3532315806311926E7,
  "spatialReference": {
   "wkid": 102604,
   "latestWkid": 102604
  }
 },
 "pixelSizeX": 72.85152305630346,
 "pixelSizeY": 72.85152305630352,
 "bandCount": 4,
 "pixelType": "U8",
 "minPixelSize": 0,
 "maxPixelSize": 0,
 "copyrightText": "Georgia Department of Transportation",
 "serviceDataType": "esriImageServiceDataTypeGeneric",
 "minValues": [],
 "maxValues": [],
 "meanValues": [],
 "stdvValues": [],
 "objectIdField": "",
 "fields": [],
 "capabilities": "Image,Metadata,Mensuration",
 "defaultMosaicMethod": "Center",
 "allowedMosaicMethods": "",
 "sortField": "",
 "sortValue": null,
 "mosaicOperator": "First",
 "defaultCompressionQuality": 75,
 "defaultResamplingMethod": "Bilinear",
 "maxImageHeight": 4100,
 "maxImageWidth": 15000,
 "allowRasterFunction": true,
 "rasterFunctionInfos": [],
 "rasterTypeInfos": [
  {
   "name": "Raster Dataset",
   "description": "Supports all ArcGIS Raster Datasets",
   "help": ""
  }
 ],
 "mensurationCapabilities": "Basic",
 "hasHistograms": false,
 "hasColormap": false,
 "hasRasterAttributeTable": false,
 "minScale": 0,
 "maxScale": 0,
 "exportTilesAllowed": false,
 "hasMultidimensions": false,
 "supportsStatistics": false,
 "supportsAdvancedQueries": false,
 "editFieldsInfo": null,
 "ownershipBasedAccessControlForRasters": null,
 "allowComputeTiePoints": false,
 "useStandardizedQueries": false,
 "spatialReference": {
  "wkid": 102604,
  "latestWkid": 102604
 }
}
