View In:
ArcGIS JavaScript
ArcGIS.com Map
Google Earth
ArcMap
View Footprint In:
ArcGIS.com Map
Service Description: County General Highway Maps were produced by the Georgia Department of Transportation (GDOT) Office of Transportation Data between 1990-1999. Source county maps were produced at a scale of 1:31,680. Upon completion of updates for all counties in the State of Georgia, the maps were clipped by county boundary lines and merged into an image mosaic for the State of Georgia. The Office of Information Technology published this dataset within the Geographic Information System (GIS).
Name: COUNTY_MAP_1990_99
Description: County General Highway Maps were produced by the Georgia Department of Transportation (GDOT) Office of Transportation Data between 1990-1999. Source county maps were produced at a scale of 1:31,680. Upon completion of updates for all counties in the State of Georgia, the maps were clipped by county boundary lines and merged into an image mosaic for the State of Georgia. The Office of Information Technology published this dataset within the Geographic Information System (GIS).
Single Fused Map Cache: false
Extent:
XMin: -630858.6948584364
YMin: 1.166775881975207E7
XMax: 851527.3462579326
YMax: 1.335513471504913E7
Spatial Reference: PROJCS["NAD_1983_Lambert_Conformal_Conic",GEOGCS["GCS_North_American_1983",DATUM["D_North_American_1983",SPHEROID["GRS_1980",6378137.0,298.257222101]],PRIMEM["Greenwich",0.0],UNIT["Degree",0.0174532925199433]],PROJECTION["Lambert_Conformal_Conic"],PARAMETER["False_Easting",0.0],PARAMETER["False_Northing",0.0],PARAMETER["Central_Meridian",-83.5],PARAMETER["Standard_Parallel_1",31.41666666666667],PARAMETER["Standard_Parallel_2",34.28333333333333],PARAMETER["Latitude_Of_Origin",0.0],UNIT["Foot_US",0.3048006096012192]]
Initial Extent:
XMin: -630858.6948584364
YMin: 1.166775881975207E7
XMax: 851527.3462579326
YMax: 1.335513471504913E7
Spatial Reference: PROJCS["NAD_1983_Lambert_Conformal_Conic",GEOGCS["GCS_North_American_1983",DATUM["D_North_American_1983",SPHEROID["GRS_1980",6378137.0,298.257222101]],PRIMEM["Greenwich",0.0],UNIT["Degree",0.0174532925199433]],PROJECTION["Lambert_Conformal_Conic"],PARAMETER["False_Easting",0.0],PARAMETER["False_Northing",0.0],PARAMETER["Central_Meridian",-83.5],PARAMETER["Standard_Parallel_1",31.41666666666667],PARAMETER["Standard_Parallel_2",34.28333333333333],PARAMETER["Latitude_Of_Origin",0.0],UNIT["Foot_US",0.3048006096012192]]
Full Extent:
XMin: -630858.6948584364
YMin: 1.166775881975207E7
XMax: 851527.3462579326
YMax: 1.335513471504913E7
Spatial Reference: PROJCS["NAD_1983_Lambert_Conformal_Conic",GEOGCS["GCS_North_American_1983",DATUM["D_North_American_1983",SPHEROID["GRS_1980",6378137.0,298.257222101]],PRIMEM["Greenwich",0.0],UNIT["Degree",0.0174532925199433]],PROJECTION["Lambert_Conformal_Conic"],PARAMETER["False_Easting",0.0],PARAMETER["False_Northing",0.0],PARAMETER["Central_Meridian",-83.5],PARAMETER["Standard_Parallel_1",31.41666666666667],PARAMETER["Standard_Parallel_2",34.28333333333333],PARAMETER["Latitude_Of_Origin",0.0],UNIT["Foot_US",0.3048006096012192]]
Pixel Size X: 5.869766462808236
Pixel Size Y: 5.8697664628083785
Band Count: 1
Pixel Type: S8
RasterFunction Infos: N/A
Mensuration Capabilities: Basic
Has Histograms: false
Has Colormap: false
Has Multi Dimensions : false
Rendering Rule:
Min Scale: 0
Max Scale: 0
Copyright Text: Georgia Department of Transportation
Service Data Type: esriImageServiceDataTypeThematic
Min Values: 0
Max Values: 1
Mean Values: 0.9119393428197694
Standard Deviation Values: 0.2833830937764685
Object ID Field:
Fields:
None
Default Mosaic Method: Center
Allowed Mosaic Methods:
SortField:
SortValue: null
Mosaic Operator: First
Default Compression Quality: 75
Default Resampling Method: Bilinear
Max Record Count: null
Max Image Height: 4100
Max Image Width: 15000
Max Download Image Count: null
Max Mosaic Image Count: null
Allow Raster Function: true
Allow Compute TiePoints: false
Supports Statistics: false
Supports Advanced Queries: false
Use StandardizedQueries: false
Raster Type Infos:
Name: Raster Dataset
Description: Supports all ArcGIS Raster Datasets
Help:
Has Raster Attribute Table: false
Edit Fields Info: null
Ownership Based AccessControl For Rasters: null
Child Resources:
Info
Key Properties
Legend
MultiDimensionalInfo
rasterFunctionInfos
Supported Operations:
Export Image
Identify
Measure
Compute Histograms
Get Samples
Compute Class Statistics