View In:
ArcGIS JavaScript
ArcGIS.com Map
Google Earth
ArcMap
View Footprint In:
ArcGIS.com Map
Service Description: DEM 10 by 10
Name: DEM_10BY10
Description: DEM 10 by 10
Single Fused Map Cache: false
Extent:
XMin: -630855.7598839998
YMin: 1.1667733578339208E7
XMax: 851523.1651160005
YMax: 1.3355131778339207E7
Spatial Reference: PROJCS["North_American_1983_Lambert_Conformal_Conic",GEOGCS["GCS_North_American_1983",DATUM["D_North_American_1983",SPHEROID["GRS_1980",6378137.0,298.257222101]],PRIMEM["Greenwich",0.0],UNIT["Degree",0.0174532925199433]],PROJECTION["Lambert_Conformal_Conic"],PARAMETER["false_easting",0.0],PARAMETER["false_northing",0.0],PARAMETER["central_meridian",-83.5],PARAMETER["standard_parallel_1",31.41666666666667],PARAMETER["standard_parallel_2",34.28333333333333],PARAMETER["latitude_of_origin",0.0],UNIT["Foot_US",0.3048006096012192]]
Initial Extent:
XMin: -630855.7598839998
YMin: 1.1667733578339208E7
XMax: 851523.1651160005
YMax: 1.3355131778339207E7
Spatial Reference: PROJCS["North_American_1983_Lambert_Conformal_Conic",GEOGCS["GCS_North_American_1983",DATUM["D_North_American_1983",SPHEROID["GRS_1980",6378137.0,298.257222101]],PRIMEM["Greenwich",0.0],UNIT["Degree",0.0174532925199433]],PROJECTION["Lambert_Conformal_Conic"],PARAMETER["false_easting",0.0],PARAMETER["false_northing",0.0],PARAMETER["central_meridian",-83.5],PARAMETER["standard_parallel_1",31.41666666666667],PARAMETER["standard_parallel_2",34.28333333333333],PARAMETER["latitude_of_origin",0.0],UNIT["Foot_US",0.3048006096012192]]
Full Extent:
XMin: -630855.7598839998
YMin: 1.1667733578339208E7
XMax: 851523.1651160005
YMax: 1.3355131778339207E7
Spatial Reference: PROJCS["North_American_1983_Lambert_Conformal_Conic",GEOGCS["GCS_North_American_1983",DATUM["D_North_American_1983",SPHEROID["GRS_1980",6378137.0,298.257222101]],PRIMEM["Greenwich",0.0],UNIT["Degree",0.0174532925199433]],PROJECTION["Lambert_Conformal_Conic"],PARAMETER["false_easting",0.0],PARAMETER["false_northing",0.0],PARAMETER["central_meridian",-83.5],PARAMETER["standard_parallel_1",31.41666666666667],PARAMETER["standard_parallel_2",34.28333333333333],PARAMETER["latitude_of_origin",0.0],UNIT["Foot_US",0.3048006096012192]]
Pixel Size X: 32.80833333333334
Pixel Size Y: 32.808333333333316
Band Count: 1
Pixel Type: F32
RasterFunction Infos: N/A
Mensuration Capabilities: Basic
Has Histograms: true
Has Colormap: false
Has Multi Dimensions : false
Rendering Rule:
Min Scale: 0
Max Scale: 0
Copyright Text: Georgia Department of Transportation
Service Data Type: esriImageServiceDataTypeGeneric
Min Values: -0.50254362821579
Max Values: 1446.6729736328
Mean Values: 152.8745425026
Standard Deviation Values: 143.50350246188
Object ID Field:
Fields:
None
Default Mosaic Method: Center
Allowed Mosaic Methods:
SortField:
SortValue: null
Mosaic Operator: First
Default Compression Quality: 75
Default Resampling Method: Bilinear
Max Record Count: null
Max Image Height: 4100
Max Image Width: 15000
Max Download Image Count: null
Max Mosaic Image Count: null
Allow Raster Function: true
Allow Compute TiePoints: false
Supports Statistics: false
Supports Advanced Queries: false
Use StandardizedQueries: false
Raster Type Infos:
Name: Raster Dataset
Description: Supports all ArcGIS Raster Datasets
Help:
Has Raster Attribute Table: false
Edit Fields Info: null
Ownership Based AccessControl For Rasters: null
Child Resources:
Info
Histograms
Key Properties
Legend
MultiDimensionalInfo
rasterFunctionInfos
Supported Operations:
Export Image
Identify
Measure
Compute Histograms
Get Samples
Compute Class Statistics