View In:
ArcGIS JavaScript
ArcGIS.com Map
Google Earth
ArcMap
View Footprint In:
ArcGIS.com Map
Service Description: Integration of a painted relief image and DRG.
Name: ELEVATION_MAP
Description: Integration of a painted relief image and DRG.
Single Fused Map Cache: false
Extent:
XMin: -630897.50881625
YMin: 1.166768168572695E7
XMax: 851523.577516286
YMax: 1.335517352727145E7
Spatial Reference: 102604
(102604)
Initial Extent:
XMin: -630897.50881625
YMin: 1.166768168572695E7
XMax: 851523.577516286
YMax: 1.335517352727145E7
Spatial Reference: 102604
(102604)
Full Extent:
XMin: -630897.50881625
YMin: 1.166768168572695E7
XMax: 851523.577516286
YMax: 1.335517352727145E7
Spatial Reference: 102604
(102604)
Pixel Size X: 83.49786449997387
Pixel Size Y: 83.49786449997524
Band Count: 3
Pixel Type: U8
RasterFunction Infos: N/A
Mensuration Capabilities: Basic
Has Histograms: true
Has Colormap: false
Has Multi Dimensions : false
Rendering Rule:
Min Scale: 0
Max Scale: 0
Copyright Text: Georgia Department of Transportation
Service Data Type: esriImageServiceDataTypeRGB
Min Values: 1, 1, 1
Max Values: 255, 255, 255
Mean Values: 97.459933627483, 71.729191365919, 112.97320475365
Standard Deviation Values: 43.289867547286, 30.124997105426, 42.556357182831
Object ID Field:
Fields:
None
Default Mosaic Method: Center
Allowed Mosaic Methods:
SortField:
SortValue: null
Mosaic Operator: First
Default Compression Quality: 75
Default Resampling Method: Bilinear
Max Record Count: null
Max Image Height: 4100
Max Image Width: 15000
Max Download Image Count: null
Max Mosaic Image Count: null
Allow Raster Function: true
Allow Compute TiePoints: false
Supports Statistics: false
Supports Advanced Queries: false
Use StandardizedQueries: false
Raster Type Infos:
Name: Raster Dataset
Description: Supports all ArcGIS Raster Datasets
Help:
Has Raster Attribute Table: false
Edit Fields Info: null
Ownership Based AccessControl For Rasters: null
Child Resources:
Info
Histograms
Key Properties
Legend
MultiDimensionalInfo
rasterFunctionInfos
Supported Operations:
Export Image
Identify
Measure
Compute Histograms
Get Samples
Compute Class Statistics