View In:
ArcGIS JavaScript
ArcGIS.com Map
Google Earth
ArcMap
View Footprint In:
ArcGIS.com Map
Service Description: PAINTED RELIEF
Name: PAINTED_RELIEF
Description: PAINTED RELIEF
Single Fused Map Cache: false
Extent:
XMin: -630872.1640506665
YMin: 1.1667749982505877E7
XMax: 851539.5692826669
YMax: 1.3355148182505878E7
Spatial Reference: PROJCS["North_American_1983_Lambert_Conformal_Conic",GEOGCS["GCS_North_American_1983",DATUM["D_North_American_1983",SPHEROID["GRS_1980",6378137.0,298.257222101]],PRIMEM["Greenwich",0.0],UNIT["Degree",0.0174532925199433]],PROJECTION["Lambert_Conformal_Conic"],PARAMETER["false_easting",0.0],PARAMETER["false_northing",0.0],PARAMETER["central_meridian",-83.5],PARAMETER["standard_parallel_1",31.41666666666667],PARAMETER["standard_parallel_2",34.28333333333333],PARAMETER["latitude_of_origin",0.0],UNIT["Foot_US",0.3048006096012192]]
Initial Extent:
XMin: -630872.1640506665
YMin: 1.1667749982505877E7
XMax: 851539.5692826669
YMax: 1.3355148182505878E7
Spatial Reference: PROJCS["North_American_1983_Lambert_Conformal_Conic",GEOGCS["GCS_North_American_1983",DATUM["D_North_American_1983",SPHEROID["GRS_1980",6378137.0,298.257222101]],PRIMEM["Greenwich",0.0],UNIT["Degree",0.0174532925199433]],PROJECTION["Lambert_Conformal_Conic"],PARAMETER["false_easting",0.0],PARAMETER["false_northing",0.0],PARAMETER["central_meridian",-83.5],PARAMETER["standard_parallel_1",31.41666666666667],PARAMETER["standard_parallel_2",34.28333333333333],PARAMETER["latitude_of_origin",0.0],UNIT["Foot_US",0.3048006096012192]]
Full Extent:
XMin: -630872.1640506665
YMin: 1.1667749982505877E7
XMax: 851539.5692826669
YMax: 1.3355148182505878E7
Spatial Reference: PROJCS["North_American_1983_Lambert_Conformal_Conic",GEOGCS["GCS_North_American_1983",DATUM["D_North_American_1983",SPHEROID["GRS_1980",6378137.0,298.257222101]],PRIMEM["Greenwich",0.0],UNIT["Degree",0.0174532925199433]],PROJECTION["Lambert_Conformal_Conic"],PARAMETER["false_easting",0.0],PARAMETER["false_northing",0.0],PARAMETER["central_meridian",-83.5],PARAMETER["standard_parallel_1",31.41666666666667],PARAMETER["standard_parallel_2",34.28333333333333],PARAMETER["latitude_of_origin",0.0],UNIT["Foot_US",0.3048006096012192]]
Pixel Size X: 32.80833333333334
Pixel Size Y: 32.80833333333336
Band Count: 3
Pixel Type: U8
RasterFunction Infos: N/A
Mensuration Capabilities: Basic
Has Histograms: true
Has Colormap: false
Has Multi Dimensions : false
Rendering Rule:
Min Scale: 0
Max Scale: 0
Copyright Text: Georgia Department of Transportation
Service Data Type: esriImageServiceDataTypeRGB
Min Values: 0, 0, 0
Max Values: 254, 253, 254
Mean Values: 66.012197969557, 83.970667176863, 51.361449955361
Standard Deviation Values: 53.231703317536, 62.485438495393, 39.891175879289
Object ID Field:
Fields:
None
Default Mosaic Method: Center
Allowed Mosaic Methods:
SortField:
SortValue: null
Mosaic Operator: First
Default Compression Quality: 75
Default Resampling Method: Bilinear
Max Record Count: null
Max Image Height: 4100
Max Image Width: 15000
Max Download Image Count: null
Max Mosaic Image Count: null
Allow Raster Function: true
Allow Compute TiePoints: false
Supports Statistics: false
Supports Advanced Queries: false
Use StandardizedQueries: false
Raster Type Infos:
Name: Raster Dataset
Description: Supports all ArcGIS Raster Datasets
Help:
Has Raster Attribute Table: false
Edit Fields Info: null
Ownership Based AccessControl For Rasters: null
Child Resources:
Info
Histograms
Key Properties
Legend
MultiDimensionalInfo
rasterFunctionInfos
Supported Operations:
Export Image
Identify
Measure
Compute Histograms
Get Samples
Compute Class Statistics