View In:
ArcGIS JavaScript
ArcGIS.com Map
Google Earth
ArcMap
View Footprint In:
ArcGIS.com Map
Service Description: A 30 by 30 meter satellite image of Georgia.
Name: SATELLITE_TM
Description: A 30 by 30 meter satellite image of Georgia.
Single Fused Map Cache: false
Extent:
XMin: -630855.759884
YMin: 1.16677335783392E7
XMax: 851523.165116001
YMax: 1.33551317783392E7
Spatial Reference: 102604
(102604)
Initial Extent:
XMin: -630855.759884
YMin: 1.16677335783392E7
XMax: 851523.165116001
YMax: 1.33551317783392E7
Spatial Reference: 102604
(102604)
Full Extent:
XMin: -630855.759884
YMin: 1.16677335783392E7
XMax: 851523.165116001
YMax: 1.33551317783392E7
Spatial Reference: 102604
(102604)
Pixel Size X: 98.42500000000008
Pixel Size Y: 98.42499999999995
Band Count: 3
Pixel Type: U8
RasterFunction Infos: N/A
Mensuration Capabilities: Basic
Has Histograms: true
Has Colormap: false
Has Multi Dimensions : false
Rendering Rule:
Min Scale: 0
Max Scale: 0
Copyright Text: Georgia Department of Transportation
Service Data Type: esriImageServiceDataTypeRGB
Min Values: 1, 1, 1
Max Values: 255, 255, 255
Mean Values: 72.12008495755131, 68.45527135589069, 25.888887152331122
Standard Deviation Values: 41.434422038084264, 25.488444634093185, 15.353830228231345
Object ID Field:
Fields:
None
Default Mosaic Method: Center
Allowed Mosaic Methods:
SortField:
SortValue: null
Mosaic Operator: First
Default Compression Quality: 75
Default Resampling Method: Bilinear
Max Record Count: null
Max Image Height: 4100
Max Image Width: 15000
Max Download Image Count: null
Max Mosaic Image Count: null
Allow Raster Function: true
Allow Compute TiePoints: false
Supports Statistics: false
Supports Advanced Queries: false
Use StandardizedQueries: false
Raster Type Infos:
Name: Raster Dataset
Description: Supports all ArcGIS Raster Datasets
Help:
Has Raster Attribute Table: false
Edit Fields Info: null
Ownership Based AccessControl For Rasters: null
Child Resources:
Info
Histograms
Key Properties
Legend
MultiDimensionalInfo
rasterFunctionInfos
Supported Operations:
Export Image
Identify
Measure
Compute Histograms
Get Samples
Compute Class Statistics