View In:
ArcGIS JavaScript
ArcGIS.com Map
Google Earth
ArcMap
View Footprint In:
ArcGIS.com Map
Service Description: Georgia Official Highway and Transportation Map, also known as the State Map. The map includes 16 insets: Albany, Appalachian Trail, Athens, Atlanta, Augusta, Columbus, Dalton, Downtown Atlanta, Gainesville, Hinesville, Macon, Rome, Savannah, Statesboro, Valdosta, and Warner Robins. The 2017-2018 State Map is printed at a scale of 1 inch to 10 miles (633,600). The map was produced through a collaborative effort between GDOT’s Office of Transportation Data and the Carl Vinson Institute of Government at the University of Georgia.
Name: STATE_MAP_2017
Description: Georgia Official Highway and Transportation Map, also known as the State Map. The map includes 16 insets: Albany, Appalachian Trail, Athens, Atlanta, Augusta, Columbus, Dalton, Downtown Atlanta, Gainesville, Hinesville, Macon, Rome, Savannah, Statesboro, Valdosta, and Warner Robins. The 2017-2018 State Map is printed at a scale of 1 inch to 10 miles (633,600). The map was produced through a collaborative effort between GDOT’s Office of Transportation Data and the Carl Vinson Institute of Government at the University of Georgia.
Single Fused Map Cache: false
Extent:
XMin: -1309617.6807869799
YMin: 1.162966808524342E7
XMax: 1531833.6953597786
YMax: 1.3393188085243402E7
Spatial Reference: 102604
(102604)
Initial Extent:
XMin: -1309617.6807869799
YMin: 1.162966808524342E7
XMax: 1531833.6953597786
YMax: 1.3393188085243402E7
Spatial Reference: 102604
(102604)
Full Extent:
XMin: -1309617.6807869799
YMin: 1.162966808524342E7
XMax: 1531833.6953597786
YMax: 1.3393188085243402E7
Spatial Reference: 102604
(102604)
Pixel Size X: 38.82984238417479
Pixel Size Y: 38.82951317788452
Band Count: 3
Pixel Type: U8
RasterFunction Infos: N/A
Mensuration Capabilities: Basic
Has Histograms: false
Has Colormap: false
Has Multi Dimensions : false
Rendering Rule:
Min Scale: 0
Max Scale: 0
Copyright Text: Georgia Department of Tranportation, Office of Transportation Data
Service Data Type: esriImageServiceDataTypeThematic
Min Values: N/A
Max Values: N/A
Mean Values: N/A
Standard Deviation Values: N/A
Object ID Field:
Fields:
None
Default Mosaic Method: Center
Allowed Mosaic Methods:
SortField:
SortValue: null
Mosaic Operator: First
Default Compression Quality: 75
Default Resampling Method: Bilinear
Max Record Count: null
Max Image Height: 4100
Max Image Width: 15000
Max Download Image Count: null
Max Mosaic Image Count: null
Allow Raster Function: true
Allow Compute TiePoints: false
Supports Statistics: false
Supports Advanced Queries: false
Use StandardizedQueries: false
Raster Type Infos:
Name: Raster Dataset
Description: Supports all ArcGIS Raster Datasets
Help:
Has Raster Attribute Table: false
Edit Fields Info: null
Ownership Based AccessControl For Rasters: null
Child Resources:
Info
Key Properties
Legend
MultiDimensionalInfo
rasterFunctionInfos
Supported Operations:
Export Image
Identify
Measure
Compute Histograms
Get Samples
Compute Class Statistics