View In:
ArcGIS JavaScript
ArcGIS.com Map
Google Earth
ArcMap
View Footprint In:
ArcGIS.com Map
Service Description: State Map 2025 - 2026
Name: State_Map
Description: State Map 2025 - 2026
Single Fused Map Cache: false
Extent:
XMin: -1178217.0074292917
YMin: 1.1490579021135963E7
XMax: 1371586.2995413293
YMax: 1.3532315806311926E7
Spatial Reference: 102604
(102604)
Initial Extent:
XMin: -1178217.0074292917
YMin: 1.1490579021135963E7
XMax: 1371586.2995413293
YMax: 1.3532315806311926E7
Spatial Reference: 102604
(102604)
Full Extent:
XMin: -1178217.0074292917
YMin: 1.1490579021135963E7
XMax: 1371586.2995413293
YMax: 1.3532315806311926E7
Spatial Reference: 102604
(102604)
Pixel Size X: 72.85152305630346
Pixel Size Y: 72.85152305630352
Band Count: 4
Pixel Type: U8
RasterFunction Infos: N/A
Mensuration Capabilities: Basic
Has Histograms: false
Has Colormap: false
Has Multi Dimensions : false
Rendering Rule:
Min Scale: 0
Max Scale: 0
Copyright Text: Georgia Department of Transportation
Service Data Type: esriImageServiceDataTypeGeneric
Min Values: N/A
Max Values: N/A
Mean Values: N/A
Standard Deviation Values: N/A
Object ID Field:
Fields:
None
Default Mosaic Method: Center
Allowed Mosaic Methods:
SortField:
SortValue: null
Mosaic Operator: First
Default Compression Quality: 75
Default Resampling Method: Bilinear
Max Record Count: null
Max Image Height: 4100
Max Image Width: 15000
Max Download Image Count: null
Max Mosaic Image Count: null
Allow Raster Function: true
Allow Compute TiePoints: false
Supports Statistics: false
Supports Advanced Queries: false
Use StandardizedQueries: false
Raster Type Infos:
Name: Raster Dataset
Description: Supports all ArcGIS Raster Datasets
Help:
Has Raster Attribute Table: false
Edit Fields Info: null
Ownership Based AccessControl For Rasters: null
Child Resources:
Info
Key Properties
Legend
MultiDimensionalInfo
rasterFunctionInfos
Supported Operations:
Export Image
Identify
Measure
Compute Histograms
Get Samples
Compute Class Statistics